Package: timescape Version: 1.24.0 Command: chmod a+r timescape -R && F:\biocbuild\bbs-3.17-bioc\R\bin\R.exe CMD build --keep-empty-dirs --no-resave-data timescape StartedAt: 2023-10-15 22:51:48 -0400 (Sun, 15 Oct 2023) EndedAt: 2023-10-15 22:51:57 -0400 (Sun, 15 Oct 2023) EllapsedTime: 9.1 seconds RetCode: 0 Status: OK PackageFile: timescape_1.24.0.tar.gz PackageFileSize: 673.5 KiB