Package: timescape Version: 1.24.0 Command: /Library/Frameworks/R.framework/Resources/bin/R CMD INSTALL timescape StartedAt: 2023-10-15 15:50:05 -0400 (Sun, 15 Oct 2023) EndedAt: 2023-10-15 15:50:21 -0400 (Sun, 15 Oct 2023) EllapsedTime: 16.1 seconds RetCode: 0 Status: OK