Package: timescape Version: 1.24.0 Command: /Library/Frameworks/R.framework/Resources/bin/R CMD build --keep-empty-dirs --no-resave-data timescape StartedAt: 2023-10-15 21:54:13 -0400 (Sun, 15 Oct 2023) EndedAt: 2023-10-15 21:54:23 -0400 (Sun, 15 Oct 2023) EllapsedTime: 10.1 seconds RetCode: 0 Status: OK PackageFile: timescape_1.24.0.tar.gz PackageFileSize: 672.5 KiB