Package: timecourse Version: 1.72.0 Command: F:\biocbuild\bbs-3.17-bioc\R\bin\R.exe CMD check --no-multiarch --install=check:timecourse.install-out.txt --library=F:\biocbuild\bbs-3.17-bioc\R\library --no-vignettes --timings timecourse_1.72.0.tar.gz StartedAt: 2023-10-16 07:39:34 -0400 (Mon, 16 Oct 2023) EndedAt: 2023-10-16 07:40:18 -0400 (Mon, 16 Oct 2023) EllapsedTime: 43.9 seconds RetCode: 0 Status: OK CheckDir: timecourse.Rcheck Warnings: 0