Package: timeOmics Version: 1.12.0 Command: F:\biocbuild\bbs-3.17-bioc\R\bin\R.exe CMD INSTALL timeOmics StartedAt: 2023-10-15 16:06:01 -0400 (Sun, 15 Oct 2023) EndedAt: 2023-10-15 16:06:20 -0400 (Sun, 15 Oct 2023) EllapsedTime: 18.2 seconds RetCode: 0 Status: OK