Package: timeOmics Version: 1.12.0 Command: F:\biocbuild\bbs-3.17-bioc\R\bin\R.exe CMD check --no-multiarch --install=check:timeOmics.install-out.txt --library=F:\biocbuild\bbs-3.17-bioc\R\library --no-vignettes --timings timeOmics_1.12.0.tar.gz StartedAt: 2023-10-16 07:40:16 -0400 (Mon, 16 Oct 2023) EndedAt: 2023-10-16 07:43:03 -0400 (Mon, 16 Oct 2023) EllapsedTime: 166.5 seconds RetCode: 0 Status: OK CheckDir: timeOmics.Rcheck Warnings: 0