Package: timeOmics Version: 1.12.0 Command: chmod a+r timeOmics -R && F:\biocbuild\bbs-3.17-bioc\R\bin\R.exe CMD build --keep-empty-dirs --no-resave-data timeOmics StartedAt: 2023-10-15 22:51:40 -0400 (Sun, 15 Oct 2023) EndedAt: 2023-10-15 22:52:23 -0400 (Sun, 15 Oct 2023) EllapsedTime: 42.5 seconds RetCode: 0 Status: OK PackageFile: timeOmics_1.12.0.tar.gz PackageFileSize: 2.768 MiB