Package: timeOmics Version: 1.12.0 Command: rm -rf timeOmics.buildbin-libdir && mkdir timeOmics.buildbin-libdir && F:\biocbuild\bbs-3.17-bioc\R\bin\R.exe CMD INSTALL --build --library=timeOmics.buildbin-libdir timeOmics_1.12.0.tar.gz StartedAt: 2023-10-16 09:39:23 -0400 (Mon, 16 Oct 2023) EndedAt: 2023-10-16 09:39:39 -0400 (Mon, 16 Oct 2023) EllapsedTime: 15.6 seconds RetCode: 0 Status: OK PackageFile: timeOmics_1.12.0.zip PackageFileSize: 2.181 MiB