Package: timeOmics Version: 1.12.0 Command: /home/biocbuild/bbs-3.17-bioc/R/bin/R CMD build --keep-empty-dirs --no-resave-data timeOmics StartedAt: 2023-10-15 18:48:54 -0400 (Sun, 15 Oct 2023) EndedAt: 2023-10-15 18:49:29 -0400 (Sun, 15 Oct 2023) EllapsedTime: 34.4 seconds RetCode: 0 Status: OK PackageFile: timeOmics_1.12.0.tar.gz PackageFileSize: 3.794 MiB