Package: target Version: 1.14.0 Command: /home/biocbuild/bbs-3.17-bioc/R/bin/R CMD build --keep-empty-dirs --no-resave-data target StartedAt: 2023-10-15 18:46:13 -0400 (Sun, 15 Oct 2023) EndedAt: 2023-10-15 18:46:57 -0400 (Sun, 15 Oct 2023) EllapsedTime: 43.5 seconds RetCode: 0 Status: OK PackageFile: target_1.14.0.tar.gz PackageFileSize: 3.064 MiB