Package: target Version: 1.14.0 Command: /Library/Frameworks/R.framework/Resources/bin/R CMD check --install=check:target.install-out.txt --library=/Library/Frameworks/R.framework/Resources/library --no-vignettes --timings target_1.14.0.tar.gz StartedAt: 2023-10-16 07:55:04 -0400 (Mon, 16 Oct 2023) EndedAt: 2023-10-16 07:58:29 -0400 (Mon, 16 Oct 2023) EllapsedTime: 204.5 seconds RetCode: 0 Status: OK CheckDir: target.Rcheck Warnings: 0