Package: tanggle Version: 1.6.0 Command: rm -rf tanggle.buildbin-libdir && mkdir tanggle.buildbin-libdir && F:\biocbuild\bbs-3.17-bioc\R\bin\R.exe CMD INSTALL --build --library=tanggle.buildbin-libdir tanggle_1.6.0.tar.gz StartedAt: 2023-10-16 09:38:15 -0400 (Mon, 16 Oct 2023) EndedAt: 2023-10-16 09:38:27 -0400 (Mon, 16 Oct 2023) EllapsedTime: 11.2 seconds RetCode: 0 Status: OK PackageFile: tanggle_1.6.0.zip PackageFileSize: 1.177 MiB