Package: tRNAscanImport Version: 1.20.0 Command: /home/biocbuild/bbs-3.17-bioc/R/bin/R CMD check --install=check:tRNAscanImport.install-out.txt --library=/home/biocbuild/bbs-3.17-bioc/R/site-library --timings tRNAscanImport_1.20.0.tar.gz StartedAt: 2023-10-16 01:55:47 -0400 (Mon, 16 Oct 2023) EndedAt: 2023-10-16 02:01:10 -0400 (Mon, 16 Oct 2023) EllapsedTime: 323.0 seconds RetCode: 0 Status: OK CheckDir: tRNAscanImport.Rcheck Warnings: 0