Package: tRNAscanImport Version: 1.20.0 Command: /Library/Frameworks/R.framework/Resources/bin/R CMD INSTALL tRNAscanImport StartedAt: 2023-10-15 15:33:38 -0400 (Sun, 15 Oct 2023) EndedAt: 2023-10-15 15:35:27 -0400 (Sun, 15 Oct 2023) EllapsedTime: 108.7 seconds RetCode: 0 Status: OK