Package: tRNAscanImport Version: 1.20.0 Command: rm -rf tRNAscanImport.buildbin-libdir && mkdir tRNAscanImport.buildbin-libdir && /Users/biocbuild/BBS/utils/build-universal.sh tRNAscanImport_1.20.0.tar.gz /Library/Frameworks/R.framework/Resources/bin/R tRNAscanImport.buildbin-libdir StartedAt: 2023-10-16 10:23:10 -0400 (Mon, 16 Oct 2023) EndedAt: 2023-10-16 10:25:01 -0400 (Mon, 16 Oct 2023) EllapsedTime: 110.5 seconds RetCode: 0 Status: OK PackageFile: tRNAscanImport_1.20.0.tgz PackageFileSize: 884.9 KiB