Package: syntenet Version: 1.2.4 Command: /Library/Frameworks/R.framework/Resources/bin/R CMD INSTALL syntenet StartedAt: 2023-10-15 15:52:04 -0400 (Sun, 15 Oct 2023) EndedAt: 2023-10-15 15:55:18 -0400 (Sun, 15 Oct 2023) EllapsedTime: 193.5 seconds RetCode: 0 Status: OK