Package: syntenet Version: 1.2.4 Command: /Library/Frameworks/R.framework/Resources/bin/R CMD check --install=check:syntenet.install-out.txt --library=/Library/Frameworks/R.framework/Resources/library --no-vignettes --timings syntenet_1.2.4.tar.gz StartedAt: 2023-10-16 07:53:34 -0400 (Mon, 16 Oct 2023) EndedAt: 2023-10-16 08:04:17 -0400 (Mon, 16 Oct 2023) EllapsedTime: 642.8 seconds RetCode: 0 Status: OK CheckDir: syntenet.Rcheck Warnings: 0