Package: switchde Version: 1.26.0 Command: chmod a+r switchde -R && F:\biocbuild\bbs-3.17-bioc\R\bin\R.exe CMD build --keep-empty-dirs --no-resave-data switchde StartedAt: 2023-10-15 22:45:44 -0400 (Sun, 15 Oct 2023) EndedAt: 2023-10-15 22:46:28 -0400 (Sun, 15 Oct 2023) EllapsedTime: 44.2 seconds RetCode: 0 Status: OK PackageFile: switchde_1.26.0.tar.gz PackageFileSize: 489.2 KiB