Package: structToolbox Version: 1.12.3 Command: F:\biocbuild\bbs-3.17-bioc\R\bin\R.exe CMD check --no-multiarch --install=check:structToolbox.install-out.txt --library=F:\biocbuild\bbs-3.17-bioc\R\library --no-vignettes --timings structToolbox_1.12.3.tar.gz StartedAt: 2023-10-16 07:24:53 -0400 (Mon, 16 Oct 2023) EndedAt: 2023-10-16 07:32:31 -0400 (Mon, 16 Oct 2023) EllapsedTime: 458.1 seconds RetCode: 0 Status: OK CheckDir: structToolbox.Rcheck Warnings: 0