Package: sscore Version: 1.72.0 Command: /Library/Frameworks/R.framework/Resources/bin/R CMD build --keep-empty-dirs --no-resave-data sscore StartedAt: 2023-10-15 21:40:29 -0400 (Sun, 15 Oct 2023) EndedAt: 2023-10-15 21:42:07 -0400 (Sun, 15 Oct 2023) EllapsedTime: 97.5 seconds RetCode: 0 Status: OK PackageFile: sscore_1.72.0.tar.gz PackageFileSize: 451.7 KiB