Package: splatter Version: 1.24.0 Command: rm -rf splatter.buildbin-libdir && mkdir splatter.buildbin-libdir && F:\biocbuild\bbs-3.17-bioc\R\bin\R.exe CMD INSTALL --build --library=splatter.buildbin-libdir splatter_1.24.0.tar.gz StartedAt: 2023-10-16 09:35:48 -0400 (Mon, 16 Oct 2023) EndedAt: 2023-10-16 09:36:31 -0400 (Mon, 16 Oct 2023) EllapsedTime: 42.6 seconds RetCode: 0 Status: OK PackageFile: splatter_1.24.0.zip PackageFileSize: 3.401 MiB