Package: spiky Version: 1.6.0 Command: /home/biocbuild/bbs-3.17-bioc/R/bin/R CMD build --keep-empty-dirs --no-resave-data spiky StartedAt: 2023-10-15 18:39:02 -0400 (Sun, 15 Oct 2023) EndedAt: 2023-10-15 18:40:37 -0400 (Sun, 15 Oct 2023) EllapsedTime: 95.5 seconds RetCode: 0 Status: OK PackageFile: spiky_1.6.0.tar.gz PackageFileSize: 14.31 MiB