Package: specL Version: 1.34.0 Command: chmod a+r specL -R && F:\biocbuild\bbs-3.17-bioc\R\bin\R.exe CMD build --keep-empty-dirs --no-resave-data specL StartedAt: 2023-10-15 22:34:40 -0400 (Sun, 15 Oct 2023) EndedAt: 2023-10-15 22:35:07 -0400 (Sun, 15 Oct 2023) EllapsedTime: 26.0 seconds RetCode: 0 Status: OK PackageFile: specL_1.34.0.tar.gz PackageFileSize: 1.387 MiB