Package: specL Version: 1.34.0 Command: /home/biocbuild/bbs-3.17-bioc/R/bin/R CMD build --keep-empty-dirs --no-resave-data specL StartedAt: 2023-10-15 18:37:58 -0400 (Sun, 15 Oct 2023) EndedAt: 2023-10-15 18:38:18 -0400 (Sun, 15 Oct 2023) EllapsedTime: 19.4 seconds RetCode: 0 Status: OK PackageFile: specL_1.34.0.tar.gz PackageFileSize: 1.843 MiB