Package: spatzie Version: 1.6.0 Command: /home/biocbuild/bbs-3.17-bioc/R/bin/R CMD build --keep-empty-dirs --no-resave-data spatzie StartedAt: 2023-10-15 18:37:41 -0400 (Sun, 15 Oct 2023) EndedAt: 2023-10-15 18:38:39 -0400 (Sun, 15 Oct 2023) EllapsedTime: 58.6 seconds RetCode: 0 Status: OK PackageFile: spatzie_1.6.0.tar.gz PackageFileSize: 1.884 MiB