Package: sparsenetgls Version: 1.18.0 Command: /home/biocbuild/bbs-3.17-bioc/R/bin/R CMD build --keep-empty-dirs --no-resave-data sparsenetgls StartedAt: 2023-10-15 18:37:19 -0400 (Sun, 15 Oct 2023) EndedAt: 2023-10-15 18:40:28 -0400 (Sun, 15 Oct 2023) EllapsedTime: 189.7 seconds RetCode: 0 Status: OK PackageFile: sparsenetgls_1.18.0.tar.gz PackageFileSize: 583.4 KiB