Package: spaSim Version: 1.2.1 Command: F:\biocbuild\bbs-3.17-bioc\R\bin\R.exe CMD INSTALL spaSim StartedAt: 2023-10-15 16:15:44 -0400 (Sun, 15 Oct 2023) EndedAt: 2023-10-15 16:16:17 -0400 (Sun, 15 Oct 2023) EllapsedTime: 33.1 seconds RetCode: 0 Status: OK