Package: soGGi Version: 1.32.0 Command: rm -rf soGGi.buildbin-libdir && mkdir soGGi.buildbin-libdir && F:\biocbuild\bbs-3.17-bioc\R\bin\R.exe CMD INSTALL --build --library=soGGi.buildbin-libdir soGGi_1.32.0.tar.gz StartedAt: 2023-10-16 09:34:22 -0400 (Mon, 16 Oct 2023) EndedAt: 2023-10-16 09:35:11 -0400 (Mon, 16 Oct 2023) EllapsedTime: 48.3 seconds RetCode: 0 Status: OK PackageFile: soGGi_1.32.0.zip PackageFileSize: 3.428 MiB