Package: soGGi Version: 1.32.0 Command: /home/biocbuild/bbs-3.17-bioc/R/bin/R CMD build --keep-empty-dirs --no-resave-data soGGi StartedAt: 2023-10-15 18:36:23 -0400 (Sun, 15 Oct 2023) EndedAt: 2023-10-15 18:37:36 -0400 (Sun, 15 Oct 2023) EllapsedTime: 73.0 seconds RetCode: 0 Status: OK PackageFile: soGGi_1.32.0.tar.gz PackageFileSize: 3.275 MiB