Package: similaRpeak Version: 1.32.0 Command: chmod a+r similaRpeak -R && F:\biocbuild\bbs-3.17-bioc\R\bin\R.exe CMD build --keep-empty-dirs --no-resave-data similaRpeak StartedAt: 2023-10-15 22:24:54 -0400 (Sun, 15 Oct 2023) EndedAt: 2023-10-15 22:25:20 -0400 (Sun, 15 Oct 2023) EllapsedTime: 26.0 seconds RetCode: 0 Status: OK PackageFile: similaRpeak_1.32.0.tar.gz PackageFileSize: 853.7 KiB