Package: shinyepico Version: 1.8.0 Command: chmod a+r shinyepico -R && F:\biocbuild\bbs-3.17-bioc\R\bin\R.exe CMD build --keep-empty-dirs --no-resave-data shinyepico StartedAt: 2023-10-15 22:21:51 -0400 (Sun, 15 Oct 2023) EndedAt: 2023-10-15 22:22:08 -0400 (Sun, 15 Oct 2023) EllapsedTime: 17.0 seconds RetCode: 0 Status: OK PackageFile: shinyepico_1.8.0.tar.gz PackageFileSize: 2.247 MiB