Package: seqcombo Version: 1.22.0 Command: chmod a+r seqcombo -R && F:\biocbuild\bbs-3.17-bioc\R\bin\R.exe CMD build --keep-empty-dirs --no-resave-data seqcombo StartedAt: 2023-10-15 22:19:21 -0400 (Sun, 15 Oct 2023) EndedAt: 2023-10-15 22:19:44 -0400 (Sun, 15 Oct 2023) EllapsedTime: 22.8 seconds RetCode: 0 Status: OK PackageFile: seqcombo_1.22.0.tar.gz PackageFileSize: 685.9 KiB