Package: seqcombo Version: 1.22.0 Command: /home/biocbuild/bbs-3.17-bioc/R/bin/R CMD build --keep-empty-dirs --no-resave-data seqcombo StartedAt: 2023-10-15 18:30:50 -0400 (Sun, 15 Oct 2023) EndedAt: 2023-10-15 18:31:04 -0400 (Sun, 15 Oct 2023) EllapsedTime: 14.3 seconds RetCode: 0 Status: OK PackageFile: seqcombo_1.22.0.tar.gz PackageFileSize: 1018 KiB