Package: seqPattern Version: 1.32.0 Command: F:\biocbuild\bbs-3.17-bioc\R\bin\R.exe CMD check --no-multiarch --install=check:seqPattern.install-out.txt --library=F:\biocbuild\bbs-3.17-bioc\R\library --no-vignettes --timings seqPattern_1.32.0.tar.gz StartedAt: 2023-10-16 06:46:08 -0400 (Mon, 16 Oct 2023) EndedAt: 2023-10-16 06:48:21 -0400 (Mon, 16 Oct 2023) EllapsedTime: 133.4 seconds RetCode: 0 Status: OK CheckDir: seqPattern.Rcheck Warnings: 0