Package: seqArchRplus Version: 1.0.0 Command: chmod a+r seqArchRplus -R && F:\biocbuild\bbs-3.17-bioc\R\bin\R.exe CMD build --keep-empty-dirs --no-resave-data seqArchRplus StartedAt: 2023-10-15 22:17:40 -0400 (Sun, 15 Oct 2023) EndedAt: 2023-10-15 22:21:41 -0400 (Sun, 15 Oct 2023) EllapsedTime: 240.8 seconds RetCode: 0 Status: OK PackageFile: seqArchRplus_1.0.0.tar.gz PackageFileSize: 1.775 MiB