Package: seqArchRplus Version: 1.0.0 Command: rm -rf seqArchRplus.buildbin-libdir && mkdir seqArchRplus.buildbin-libdir && F:\biocbuild\bbs-3.17-bioc\R\bin\R.exe CMD INSTALL --build --library=seqArchRplus.buildbin-libdir seqArchRplus_1.0.0.tar.gz StartedAt: 2023-10-16 09:31:21 -0400 (Mon, 16 Oct 2023) EndedAt: 2023-10-16 09:31:52 -0400 (Mon, 16 Oct 2023) EllapsedTime: 30.9 seconds RetCode: 0 Status: OK PackageFile: seqArchRplus_1.0.0.zip PackageFileSize: 1.873 MiB