Package: seq.hotSPOT Version: 1.0.0 Command: F:\biocbuild\bbs-3.17-bioc\R\bin\R.exe CMD check --no-multiarch --install=check:seq.hotSPOT.install-out.txt --library=F:\biocbuild\bbs-3.17-bioc\R\library --no-vignettes --timings seq.hotSPOT_1.0.0.tar.gz StartedAt: 2023-10-16 06:43:50 -0400 (Mon, 16 Oct 2023) EndedAt: 2023-10-16 06:44:26 -0400 (Mon, 16 Oct 2023) EllapsedTime: 36.0 seconds RetCode: 0 Status: OK CheckDir: seq.hotSPOT.Rcheck Warnings: 0