Package: seq.hotSPOT Version: 1.0.0 Command: rm -rf seq.hotSPOT.buildbin-libdir && mkdir seq.hotSPOT.buildbin-libdir && F:\biocbuild\bbs-3.17-bioc\R\bin\R.exe CMD INSTALL --build --library=seq.hotSPOT.buildbin-libdir seq.hotSPOT_1.0.0.tar.gz StartedAt: 2023-10-16 09:31:16 -0400 (Mon, 16 Oct 2023) EndedAt: 2023-10-16 09:31:21 -0400 (Mon, 16 Oct 2023) EllapsedTime: 5.2 seconds RetCode: 0 Status: OK PackageFile: seq.hotSPOT_1.0.0.zip PackageFileSize: 279.8 KiB