Package: seq.hotSPOT Version: 1.0.0 Command: /Library/Frameworks/R.framework/Resources/bin/R CMD INSTALL seq.hotSPOT StartedAt: 2023-10-15 15:08:49 -0400 (Sun, 15 Oct 2023) EndedAt: 2023-10-15 15:09:31 -0400 (Sun, 15 Oct 2023) EllapsedTime: 42.2 seconds RetCode: 0 Status: OK