Package: screenCounter Version: 1.0.1 Command: /home/biocbuild/bbs-3.17-bioc/R/bin/R CMD check --install=check:screenCounter.install-out.txt --library=/home/biocbuild/bbs-3.17-bioc/R/site-library --timings screenCounter_1.0.1.tar.gz StartedAt: 2023-10-16 00:56:29 -0400 (Mon, 16 Oct 2023) EndedAt: 2023-10-16 00:59:14 -0400 (Mon, 16 Oct 2023) EllapsedTime: 164.6 seconds RetCode: 0 Status: WARNINGS CheckDir: screenCounter.Rcheck Warnings: 1