Package: screenCounter Version: 1.0.1 Command: /Library/Frameworks/R.framework/Resources/bin/R CMD INSTALL screenCounter StartedAt: 2023-10-15 15:24:12 -0400 (Sun, 15 Oct 2023) EndedAt: 2023-10-15 15:28:16 -0400 (Sun, 15 Oct 2023) EllapsedTime: 243.5 seconds RetCode: 0 Status: OK