Package: screenCounter Version: 1.0.1 Command: /Library/Frameworks/R.framework/Resources/bin/R CMD build --keep-empty-dirs --no-resave-data screenCounter StartedAt: 2023-10-15 21:08:33 -0400 (Sun, 15 Oct 2023) EndedAt: 2023-10-15 21:13:16 -0400 (Sun, 15 Oct 2023) EllapsedTime: 283.2 seconds RetCode: 0 Status: OK PackageFile: screenCounter_1.0.1.tar.gz PackageFileSize: 281 KiB