Package: scp Version: 1.10.1 Command: chmod a+r scp -R && F:\biocbuild\bbs-3.17-bioc\R\bin\R.exe CMD build --keep-empty-dirs --no-resave-data scp StartedAt: 2023-10-15 22:10:58 -0400 (Sun, 15 Oct 2023) EndedAt: 2023-10-15 22:12:47 -0400 (Sun, 15 Oct 2023) EllapsedTime: 109.2 seconds RetCode: 0 Status: OK PackageFile: scp_1.10.1.tar.gz PackageFileSize: 3.791 MiB