Package: scp Version: 1.10.1 Command: /home/biocbuild/bbs-3.17-bioc/R/bin/R CMD check --install=check:scp.install-out.txt --library=/home/biocbuild/bbs-3.17-bioc/R/site-library --timings scp_1.10.1.tar.gz StartedAt: 2023-10-16 00:54:17 -0400 (Mon, 16 Oct 2023) EndedAt: 2023-10-16 00:59:41 -0400 (Mon, 16 Oct 2023) EllapsedTime: 324.3 seconds RetCode: 0 Status: OK CheckDir: scp.Rcheck Warnings: 0