Package: scp Version: 1.10.1 Command: /Library/Frameworks/R.framework/Resources/bin/R CMD INSTALL scp StartedAt: 2023-10-15 15:50:08 -0400 (Sun, 15 Oct 2023) EndedAt: 2023-10-15 15:51:34 -0400 (Sun, 15 Oct 2023) EllapsedTime: 85.2 seconds RetCode: 0 Status: OK