Package: scp Version: 1.10.1 Command: /Library/Frameworks/R.framework/Resources/bin/R CMD build --keep-empty-dirs --no-resave-data scp StartedAt: 2023-10-15 21:06:26 -0400 (Sun, 15 Oct 2023) EndedAt: 2023-10-15 21:11:55 -0400 (Sun, 15 Oct 2023) EllapsedTime: 329.0 seconds RetCode: 0 Status: OK PackageFile: scp_1.10.1.tar.gz PackageFileSize: 4.44 MiB