Package: scone Version: 1.24.0 Command: /home/biocbuild/bbs-3.17-bioc/R/bin/R CMD check --install=check:scone.install-out.txt --library=/home/biocbuild/bbs-3.17-bioc/R/site-library --timings scone_1.24.0.tar.gz StartedAt: 2023-10-16 00:52:59 -0400 (Mon, 16 Oct 2023) EndedAt: 2023-10-16 01:03:55 -0400 (Mon, 16 Oct 2023) EllapsedTime: 656.3 seconds RetCode: 0 Status: OK CheckDir: scone.Rcheck Warnings: 0