Package: scone Version: 1.24.0 Command: /Library/Frameworks/R.framework/Resources/bin/R CMD build --keep-empty-dirs --no-resave-data scone StartedAt: 2023-10-15 21:05:10 -0400 (Sun, 15 Oct 2023) EndedAt: 2023-10-15 21:12:09 -0400 (Sun, 15 Oct 2023) EllapsedTime: 419.3 seconds RetCode: 0 Status: OK PackageFile: scone_1.24.0.tar.gz PackageFileSize: 1.726 MiB