Package: scmap Version: 1.22.3 Command: /home/biocbuild/bbs-3.17-bioc/R/bin/R CMD check --install=check:scmap.install-out.txt --library=/home/biocbuild/bbs-3.17-bioc/R/site-library --timings scmap_1.22.3.tar.gz StartedAt: 2023-10-16 00:51:23 -0400 (Mon, 16 Oct 2023) EndedAt: 2023-10-16 00:54:23 -0400 (Mon, 16 Oct 2023) EllapsedTime: 180.0 seconds RetCode: 0 Status: OK CheckDir: scmap.Rcheck Warnings: 0