Package: schex Version: 1.14.0 Command: /home/biocbuild/bbs-3.17-bioc/R/bin/R CMD check --install=check:schex.install-out.txt --library=/home/biocbuild/bbs-3.17-bioc/R/site-library --timings schex_1.14.0.tar.gz StartedAt: 2023-10-16 00:50:56 -0400 (Mon, 16 Oct 2023) EndedAt: 2023-10-16 00:56:50 -0400 (Mon, 16 Oct 2023) EllapsedTime: 354.8 seconds RetCode: 0 Status: OK CheckDir: schex.Rcheck Warnings: 0